BEGIN:VCALENDAR
VERSION:2.0
PRODID:-//hacksw/handcal//NONSGML v1.0//EN
BEGIN:VEVENT
SUMMARY:Championnats d'ete a Pontivy (Piscine decouverte)
UID:b812f562-ea91-4490-8c66-ee675c660ada
DTSTART:20260612T220000Z
DTEND:20260614T220000Z
LOCATION:Localisation   
CATEGORIES:Sportif
STATUS:
URL;VALUE=URI:https://www.nautic-club-questembert.com/evenements/2026/06/13/championnats-dete-a-pontivy-piscine-decouverte-2290919
END:VEVENT
END:VCALENDAR
